BEGIN:VCALENDAR
VERSION:2.0
PRODID:-//Burg zu Hagen - ECPv6.15.20//NONSGML v1.0//EN
CALSCALE:GREGORIAN
METHOD:PUBLISH
X-WR-CALNAME:Burg zu Hagen
X-ORIGINAL-URL:https://burg-zu-hagen.de
X-WR-CALDESC:Veranstaltungen für Burg zu Hagen
REFRESH-INTERVAL;VALUE=DURATION:PT1H
X-Robots-Tag:noindex
X-PUBLISHED-TTL:PT1H
BEGIN:VTIMEZONE
TZID:Europe/Berlin
BEGIN:DAYLIGHT
TZOFFSETFROM:+0100
TZOFFSETTO:+0200
TZNAME:CEST
DTSTART:20210328T010000
END:DAYLIGHT
BEGIN:STANDARD
TZOFFSETFROM:+0200
TZOFFSETTO:+0100
TZNAME:CET
DTSTART:20211031T010000
END:STANDARD
BEGIN:DAYLIGHT
TZOFFSETFROM:+0100
TZOFFSETTO:+0200
TZNAME:CEST
DTSTART:20220327T010000
END:DAYLIGHT
BEGIN:STANDARD
TZOFFSETFROM:+0200
TZOFFSETTO:+0100
TZNAME:CET
DTSTART:20221030T010000
END:STANDARD
BEGIN:DAYLIGHT
TZOFFSETFROM:+0100
TZOFFSETTO:+0200
TZNAME:CEST
DTSTART:20230326T010000
END:DAYLIGHT
BEGIN:STANDARD
TZOFFSETFROM:+0200
TZOFFSETTO:+0100
TZNAME:CET
DTSTART:20231029T010000
END:STANDARD
BEGIN:DAYLIGHT
TZOFFSETFROM:+0100
TZOFFSETTO:+0200
TZNAME:CEST
DTSTART:20240331T010000
END:DAYLIGHT
BEGIN:STANDARD
TZOFFSETFROM:+0200
TZOFFSETTO:+0100
TZNAME:CET
DTSTART:20241027T010000
END:STANDARD
END:VTIMEZONE
BEGIN:VEVENT
DTSTART;TZID=Europe/Berlin:20221023T000000
DTEND;TZID=Europe/Berlin:20230129T235959
DTSTAMP:20260425T180413
CREATED:20220917T083037Z
LAST-MODIFIED:20221010T072030Z
UID:3264-1666483200-1675036799@burg-zu-hagen.de
SUMMARY:Ausstellung Miriam Wurster: »Gute Manieren«
DESCRIPTION:Miriam Wurster verbrachte Kindheit und Jugend in einem Dorf auf der Ostalb. Vom Irrglauben geleitet\, Bremen läge am Meer\, kam sie in die Hansestadt und begann trotzdem ein Studium an der Hochschule für Künste\, um Illustratorin und Cartoonistin zu werden. Heute lebt sie immer noch in Bremen\, ihre Cartoons denkt sie sich standesgemäß in einer ehemaligen Cartonagenfabrik aus. Seit 2000 arbeitet sie als freie Cartoonistin u.a. für die Titanic\, neues deutschland\, Charlie Hebdo\, Stern\, taz\, Weser-Kurier.  \n\n\n\n2018 erhielt sie den 1. Preis bei der Rückblende\, dem vom Bundesverband Deutscher Zeitungsverleger (BDZV) ausgeschriebenen »Karikaturenpreis der deutschen Zeitungen«. 2015 und 2020 2. Preis beim Deutschen Karikaturenpreis\, verliehen in Dresden und in Bremen. \n\n\n\n»Fies\, aber in netter Form Szenen\, die wie ein angehaltener Film oder der Ausschnitt aus einer Theateraufführung wirken. Übersichtlich\, mit lässigem Strich und liebevollen Details versehen. Dezent mit Aquarellfarben oder Rechnerpixeln eingefärbt. Oder einfach auch mal nur ein paar Bleistiftstriche. Stimmige Handlungsorte und Räume. Ob Spargelfeld\, Bürokantine\, Drohnenkriegerschaltzentrale oder Puff – wir sind sofort im Bilde und können sehen\, was denn nun schon wieder ist.« Spiegel online\n\n\n\n»Wursterwelt hat noch mehr zu bieten: Interessante Berufe und Berufungen: Die Badehosen-Rutschkontrolle. Der Warteschleifen-Komponist. Die Drohnenberatung. Erfindungen\, die die Welt ja doch vielleicht mal braucht: Das selbstfahrende Bett. Die Jonathan-Meese-Leuchte. Kuschelroboter für Rechtsradikale oder Schockbilder auf Dieselautos.   Und wer möchte nicht all zu gerne Orte wie die Bachblütenszene vom Bahnhof Zoo\, eine Sitzung der Anonymen Allergiker oder eine Sinfonie für Huster besuchen. …  Natürlich wissen wir alle\, dass viele der hier verhandelten Themen im richtigen Leben schrecklich\, unmenschlich\, grausam oder mindestens unangenehm sind. Ich finde es vorbildlich und auch beruhigend\, dass es möglich ist\, auch diese Themen in komischen\, kommentierenden Cartoons zu bearbeiten\, ohne etwas zu verharmlosen. Dazu trägt auch der leichte\, etwas skizzenhafte Stil bei und ein Gespür für Humor\, welcher nicht auf platte Schenkelklopfer oder schlimme Kalauer aus der Wortwitzhölle aus ist.« aus Ari Plikats Rede (Zeichnerkollege) zu einer früheren Ausstellung\n\n\n\nAusstellungseröffnung: Sonntag\, 23. Oktober 2022\, 15:00 UhrEinführung: Til Mette\, Cartoonist/MalerMusikalisches Rahmenprogramm: David Schollmeyer am Flügel \n\n\n\nWeitere Termine: Cartoonlesung mit ­Miriam Wurster: Sa.\, 3.12.22\, 17:00 Uhr Finissage mit Führung und Gespräch mit der ­Künstlerin: So.\, 29.1.23\, 15:00 Uhr \n\n\n\nKosten: Burgeintritt 3\,00 € \n\n\n\nFOTO: © Miriam Wurster
URL:https://burg-zu-hagen.de/event/ausstellung-miriam-wurster-gute-manieren/
LOCATION:Burg zu Hagen\, Burgallee 1\, Hagen im Bremischen\, Niedersachsen\, 27628\, Deutschland
CATEGORIES:Ausstellung
ATTACH;FMTTYPE=image/jpeg:https://burg-zu-hagen.de/wp-content/uploads/2022/06/Burg-zu-Hagen_Miriam-Wurster-Teaser.jpg
ORGANIZER;CN="Kultur- und Heimatverein Burg zu Hagen im Bremischen e.V.":MAILTO:info@burg-zu-hagen.de
END:VEVENT
BEGIN:VEVENT
DTSTART;TZID=Europe/Berlin:20230122T160000
DTEND;TZID=Europe/Berlin:20230122T160000
DTSTAMP:20260425T180413
CREATED:20221220T210000Z
LAST-MODIFIED:20221220T213111Z
UID:3430-1674403200-1674403200@burg-zu-hagen.de
SUMMARY:KINDER-THEATER mit den »Bremer Stadtmusikanten«
DESCRIPTION:Foto: Aleksandra Weber\n\n\n\nFür Träume ist es nie zu spät. Elfriede\, eine alte Katzendame\, die viele Jahre mit ihren drei Freunden das kleine Räuberhaus bei Bosseborn bewohnt hatte\, erfüllt sich im hohen Alter ihren größten Wunsch. Sie macht sich auf nach Bremen\, um die Stadt ihrer Träume endlich zu finden. Auf ihrer Reise kommt sie in unser Theater und erzählt den kleinen und großen Zuschauern ihre ganz eigene Geschichte. Doch es sollte anders kommen\, denn sie fanden das Räuberhaus\, in dem es sich gut leben ließ und vergaßen ihren Traum. Nur die Katze Elfriede hat ihn nicht vergessen … Jeannette Luft erzählt und spielt das altbekannte Märchen auf neue Weise und verknüpft es mit vielen schönen Liedern. Ab 3 Jahren. \n\n\n\nKosten: Kinder 5\,00 €; Erwachsene 8\,00 €
URL:https://burg-zu-hagen.de/event/kinder-theater-mit-den-bremer-stadtmusikanten/
LOCATION:Burg zu Hagen\, Burgallee 1\, Hagen im Bremischen\, Niedersachsen\, 27628\, Deutschland
CATEGORIES:Kinder- und Jugendveranstaltung
ATTACH;FMTTYPE=image/jpeg:https://burg-zu-hagen.de/wp-content/uploads/2022/12/Burg-zu-Hagen_Bremer-Stadtmusikanten_Teaser.jpg
ORGANIZER;CN="Kultur- und Heimatverein Burg zu Hagen im Bremischen e.V.":MAILTO:info@burg-zu-hagen.de
END:VEVENT
BEGIN:VEVENT
DTSTART;TZID=Europe/Berlin:20230130T000000
DTEND;TZID=Europe/Berlin:20230211T235959
DTSTAMP:20260425T180413
CREATED:20230120T154339Z
LAST-MODIFIED:20230120T154632Z
UID:3584-1675036800-1676159999@burg-zu-hagen.de
SUMMARY:Ausstellungswechsel für Alexander Dettmar
DESCRIPTION:Wegen eines Ausstellungswechsels bleibt die Burg zu Hagen in der Zeit vom 30. Januar bis 11. Februar 2023 geschlossen. Informationen und Tickets sind jedoch weiterhin zu den üblichen Öffnungszeiten erhältlich.  \n\n\n\nWir freuen uns ab dem 12. Februar wieder viele Besucher zur Ausstellung Alexander Dettmar »Ich glaube an die Kraft der Farbe« in der Burg begrüßen zu dürfen!
URL:https://burg-zu-hagen.de/event/ausstellungswechsel-fuer-alexander-dettmar/
CATEGORIES:Ausstellung
ATTACH;FMTTYPE=image/jpeg:https://burg-zu-hagen.de/wp-content/uploads/2022/06/Ausstellungswechsel-Teaser.jpg
END:VEVENT
END:VCALENDAR