BEGIN:VCALENDAR
VERSION:2.0
PRODID:-//Burg zu Hagen - ECPv6.15.20//NONSGML v1.0//EN
CALSCALE:GREGORIAN
METHOD:PUBLISH
X-WR-CALNAME:Burg zu Hagen
X-ORIGINAL-URL:https://burg-zu-hagen.de
X-WR-CALDESC:Veranstaltungen für Burg zu Hagen
REFRESH-INTERVAL;VALUE=DURATION:PT1H
X-Robots-Tag:noindex
X-PUBLISHED-TTL:PT1H
BEGIN:VTIMEZONE
TZID:Europe/Berlin
BEGIN:DAYLIGHT
TZOFFSETFROM:+0100
TZOFFSETTO:+0200
TZNAME:CEST
DTSTART:20220327T010000
END:DAYLIGHT
BEGIN:STANDARD
TZOFFSETFROM:+0200
TZOFFSETTO:+0100
TZNAME:CET
DTSTART:20221030T010000
END:STANDARD
BEGIN:DAYLIGHT
TZOFFSETFROM:+0100
TZOFFSETTO:+0200
TZNAME:CEST
DTSTART:20230326T010000
END:DAYLIGHT
BEGIN:STANDARD
TZOFFSETFROM:+0200
TZOFFSETTO:+0100
TZNAME:CET
DTSTART:20231029T010000
END:STANDARD
BEGIN:DAYLIGHT
TZOFFSETFROM:+0100
TZOFFSETTO:+0200
TZNAME:CEST
DTSTART:20240331T010000
END:DAYLIGHT
BEGIN:STANDARD
TZOFFSETFROM:+0200
TZOFFSETTO:+0100
TZNAME:CET
DTSTART:20241027T010000
END:STANDARD
END:VTIMEZONE
BEGIN:VEVENT
DTSTART;TZID=Europe/Berlin:20230130T000000
DTEND;TZID=Europe/Berlin:20230211T235959
DTSTAMP:20260425T163557
CREATED:20230120T154339Z
LAST-MODIFIED:20230120T154632Z
UID:3584-1675036800-1676159999@burg-zu-hagen.de
SUMMARY:Ausstellungswechsel für Alexander Dettmar
DESCRIPTION:Wegen eines Ausstellungswechsels bleibt die Burg zu Hagen in der Zeit vom 30. Januar bis 11. Februar 2023 geschlossen. Informationen und Tickets sind jedoch weiterhin zu den üblichen Öffnungszeiten erhältlich.  \n\n\n\nWir freuen uns ab dem 12. Februar wieder viele Besucher zur Ausstellung Alexander Dettmar »Ich glaube an die Kraft der Farbe« in der Burg begrüßen zu dürfen!
URL:https://burg-zu-hagen.de/event/ausstellungswechsel-fuer-alexander-dettmar/
CATEGORIES:Ausstellung
ATTACH;FMTTYPE=image/jpeg:https://burg-zu-hagen.de/wp-content/uploads/2022/06/Ausstellungswechsel-Teaser.jpg
END:VEVENT
BEGIN:VEVENT
DTSTART;TZID=Europe/Berlin:20230205T190000
DTEND;TZID=Europe/Berlin:20230205T190000
DTSTAMP:20260425T163557
CREATED:20221220T210000Z
LAST-MODIFIED:20221220T202324Z
UID:3432-1675623600-1675623600@burg-zu-hagen.de
SUMMARY:THEATERABEND mit Piccolo Teatro: »Hallo! Wie kann ich ­ihnen helfen?«
DESCRIPTION:Eines der kleinsten Theater in Deutschland\, das Piccolo Teatro Haventheater Bremerhaven\, gibt ein Gastspiel in der Hagener Burg. Mit der Inszenierung des Stückes: »Hallo! Wie kann ich Ihnen helfen?«\, erhält der Besucher einen humorvollen Einblick in die komplizierte Welt der Lebensberatung. Guter Rat muss nicht teuer sein. Es gibt ja die anonyme telefonische Suchtberatung. Hier kann man ganz offen sprechen und vielleicht einen neuen Schritt durchs verlockende Leben wagen. Aber ist der Berater wirklich kompetenter als der Ratsuchende? In diesem Zwei-Personen-Stück um Sucht und Gier wechseln die Rollen hin und her. Wer sucht hier Hilfe und wer kann helfen? In schweren Zeiten hilft Humor\, wie schon Heinz Erhardt sagte\, oder war es Loriot? Egal! Britta Werksnis als Ratsuchende und Friedo Stucke als Berater lösen jede Komplikation. \n\n\n\nKosten: Mitglieder 19\,00 €; Nichtmitglieder 22\,00 €; erm. 9\,50/11\,00 €
URL:https://burg-zu-hagen.de/event/theaterabend-mit-piccolo-teatro-hallo-wie-kann-ich-ihnen-helfen/
LOCATION:Burg zu Hagen\, Burgallee 1\, Hagen im Bremischen\, Niedersachsen\, 27628\, Deutschland
CATEGORIES:Theaterabend
ATTACH;FMTTYPE=image/jpeg:https://burg-zu-hagen.de/wp-content/uploads/2022/12/Burg-zu-Hagen_Piccolo-Teatro.jpg
ORGANIZER;CN="Kultur- und Heimatverein Burg zu Hagen im Bremischen e.V.":MAILTO:info@burg-zu-hagen.de
END:VEVENT
BEGIN:VEVENT
DTSTART;TZID=Europe/Berlin:20230212T000000
DTEND;TZID=Europe/Berlin:20230618T235959
DTSTAMP:20260425T163557
CREATED:20221220T210000Z
LAST-MODIFIED:20221220T213829Z
UID:3445-1676160000-1687132799@burg-zu-hagen.de
SUMMARY:Ausstellung – Alexander Dettmar: »Ich glaube an die Kraft der Farbe«
DESCRIPTION:Der Ernst Barlach Preisträger kommt nach seinen großen Ausstellungserfolgen im Herbst 2022 in Paris mit einer außerordentlich spannenden Ausstellung in die Burg zu Hagen zurück. »Ich glaube an die Kraft der Farbe« heißt Dettmars neuestes Projekt. Bilder von Schlössern\, Burgen\, Toren\, Türmen\, Häfen und Häusern sollen die Besucher der Burg zum Träumen bringen. Alexander Dettmar wird von der Fachwelt zu den bedeutendsten lebenden Pleinair-/Draußenmalern gezählt. Für die Ausstellung in Hagen verspricht er\, einen ganz besonderen Schatz zu heben: Er wird bisher noch nie gezeigte Gemälde präsentieren\, die er in den 1980er Jahren in Hagen und Umgebung geschaffen hat. Unter anderem auch ein Bild der Hagener Mühle. Und natürlich kommt auch »Sein Rot\, das manchmal glänzt wie ein Edelstein« (Sächsische Zeitung\, Feuilleton\, Birgit Grimm) nicht zu kurz. »Der Backstein schwimmt mir im Blut«\, so formuliert Alexander Dettmar die Liebe zur Farbe Rot. Dieses kraftvolle\, ungewöhnliche Ausstellungsprojekt sollte sich niemand entgehen lassen. \n\n\n\nKosten: Burgeintritt 3\,00 €
URL:https://burg-zu-hagen.de/event/ausstellung-alexander-dettmar-ich-glaube-an-die-kraft-der-farbe/
LOCATION:Burg zu Hagen\, Burgallee 1\, Hagen im Bremischen\, Niedersachsen\, 27628\, Deutschland
CATEGORIES:Ausstellung
ATTACH;FMTTYPE=image/jpeg:https://burg-zu-hagen.de/wp-content/uploads/2022/12/Burg-zu-Hagen_Ausstellung-Alexander-Dettmar_Teaser.jpg
ORGANIZER;CN="Kultur- und Heimatverein Burg zu Hagen im Bremischen e.V.":MAILTO:info@burg-zu-hagen.de
END:VEVENT
END:VCALENDAR