BEGIN:VCALENDAR
VERSION:2.0
PRODID:-//Burg zu Hagen - ECPv6.15.20//NONSGML v1.0//EN
CALSCALE:GREGORIAN
METHOD:PUBLISH
X-ORIGINAL-URL:https://burg-zu-hagen.de
X-WR-CALDESC:Veranstaltungen für Burg zu Hagen
REFRESH-INTERVAL;VALUE=DURATION:PT1H
X-Robots-Tag:noindex
X-PUBLISHED-TTL:PT1H
BEGIN:VTIMEZONE
TZID:Europe/Berlin
BEGIN:DAYLIGHT
TZOFFSETFROM:+0100
TZOFFSETTO:+0200
TZNAME:CEST
DTSTART:20220327T010000
END:DAYLIGHT
BEGIN:STANDARD
TZOFFSETFROM:+0200
TZOFFSETTO:+0100
TZNAME:CET
DTSTART:20221030T010000
END:STANDARD
BEGIN:DAYLIGHT
TZOFFSETFROM:+0100
TZOFFSETTO:+0200
TZNAME:CEST
DTSTART:20230326T010000
END:DAYLIGHT
BEGIN:STANDARD
TZOFFSETFROM:+0200
TZOFFSETTO:+0100
TZNAME:CET
DTSTART:20231029T010000
END:STANDARD
BEGIN:DAYLIGHT
TZOFFSETFROM:+0100
TZOFFSETTO:+0200
TZNAME:CEST
DTSTART:20240331T010000
END:DAYLIGHT
BEGIN:STANDARD
TZOFFSETFROM:+0200
TZOFFSETTO:+0100
TZNAME:CET
DTSTART:20241027T010000
END:STANDARD
END:VTIMEZONE
BEGIN:VEVENT
DTSTART;TZID=Europe/Berlin:20230212T000000
DTEND;TZID=Europe/Berlin:20230618T235959
DTSTAMP:20260425T144457
CREATED:20221220T210000Z
LAST-MODIFIED:20221220T213829Z
UID:3445-1676160000-1687132799@burg-zu-hagen.de
SUMMARY:Ausstellung – Alexander Dettmar: »Ich glaube an die Kraft der Farbe«
DESCRIPTION:Der Ernst Barlach Preisträger kommt nach seinen großen Ausstellungserfolgen im Herbst 2022 in Paris mit einer außerordentlich spannenden Ausstellung in die Burg zu Hagen zurück. »Ich glaube an die Kraft der Farbe« heißt Dettmars neuestes Projekt. Bilder von Schlössern\, Burgen\, Toren\, Türmen\, Häfen und Häusern sollen die Besucher der Burg zum Träumen bringen. Alexander Dettmar wird von der Fachwelt zu den bedeutendsten lebenden Pleinair-/Draußenmalern gezählt. Für die Ausstellung in Hagen verspricht er\, einen ganz besonderen Schatz zu heben: Er wird bisher noch nie gezeigte Gemälde präsentieren\, die er in den 1980er Jahren in Hagen und Umgebung geschaffen hat. Unter anderem auch ein Bild der Hagener Mühle. Und natürlich kommt auch »Sein Rot\, das manchmal glänzt wie ein Edelstein« (Sächsische Zeitung\, Feuilleton\, Birgit Grimm) nicht zu kurz. »Der Backstein schwimmt mir im Blut«\, so formuliert Alexander Dettmar die Liebe zur Farbe Rot. Dieses kraftvolle\, ungewöhnliche Ausstellungsprojekt sollte sich niemand entgehen lassen. \n\n\n\nKosten: Burgeintritt 3\,00 €
URL:https://burg-zu-hagen.de/event/ausstellung-alexander-dettmar-ich-glaube-an-die-kraft-der-farbe/
LOCATION:Burg zu Hagen\, Burgallee 1\, Hagen im Bremischen\, Niedersachsen\, 27628\, Deutschland
CATEGORIES:Ausstellung
ATTACH;FMTTYPE=image/jpeg:https://burg-zu-hagen.de/wp-content/uploads/2022/12/Burg-zu-Hagen_Ausstellung-Alexander-Dettmar_Teaser.jpg
ORGANIZER;CN="Kultur- und Heimatverein Burg zu Hagen im Bremischen e.V.":MAILTO:info@burg-zu-hagen.de
END:VEVENT
BEGIN:VEVENT
DTSTART;TZID=Europe/Berlin:20230304T190000
DTEND;TZID=Europe/Berlin:20230304T190000
DTSTAMP:20260425T144457
CREATED:20221220T210000Z
LAST-MODIFIED:20230309T140853Z
UID:3435-1677956400-1677956400@burg-zu-hagen.de
SUMMARY:MUSIKTAGE (1. Tag) mit dem ­Ensemble des Dresdner Residenz Orchesters
DESCRIPTION:Foto: Robert Jentzsch\n\n\n\nGalakonzert »Walzerträume« – Erleben Sie Walzer im unnachahmlichen Wiener Stil\, berauschende Polkas und schmissige Märsche. Mal spitzbübisch und mal schwelgend präsentiert das DRESDNER RESIDENZ ORCHESTER ein buntes Programm mit Werken von u.a. Franz Lehár und Johann Strauss unter der musikalischen Leitung von Prof. Igor Malinovsky an der ersten Violine. Unsere charmante Sopranistin nimmt Sie mit auf eine Reise in die Zeit der goldenen Operettenära\, voller Wiener Charme und purer Musizierfreude. Spielfreudig präsentiert von jungen\, dynamischen Musikern\, die international überzeugen und eigens arrangierte Interpretationen großer bekannter Werke virtuos und klassisch auf die Bühne bringen.  \n\n\n\nKosten: Mitglieder 30\,00 €/Nichtmitgl. 34\,00 €; erm. 15\,00 €/17\,00 € (einschl. aller Getränke) \n\n\n\nKosten: Gesamtprogramm (beide Tage)Mitglieder 52\,00 €/Nichtmitglieder 60\,00 €; erm. 26\,00 €/30\,00 € (einschl. aller Getränke)
URL:https://burg-zu-hagen.de/event/musiktage-1-tag-mit-dem-ensemble-des-dresdner-residenz-orchesters/
LOCATION:Burg zu Hagen\, Burgallee 1\, Hagen im Bremischen\, Niedersachsen\, 27628\, Deutschland
CATEGORIES:Konzert
ATTACH;FMTTYPE=image/jpeg:https://burg-zu-hagen.de/wp-content/uploads/2022/12/Burg-zu-Hagen_Musiktage-Dresdner-Residenz-Orchester-Tag-2_Teaser.jpg
ORGANIZER;CN="Kultur- und Heimatverein Burg zu Hagen im Bremischen e.V.":MAILTO:info@burg-zu-hagen.de
END:VEVENT
BEGIN:VEVENT
DTSTART;TZID=Europe/Berlin:20230305T110000
DTEND;TZID=Europe/Berlin:20230305T110000
DTSTAMP:20260425T144457
CREATED:20221220T210000Z
LAST-MODIFIED:20230309T140933Z
UID:3437-1678014000-1678014000@burg-zu-hagen.de
SUMMARY:MUSIKTAGE (2. Tag) mit dem ­Ensemble des Dresdner Residenz Orchesters
DESCRIPTION:Foto: Robert Jentzsch\n\n\n\nGalakonzert »Frühlingsstimmen« Matinee – Wer sehnt sich nach einem langen\, strengen Winter nicht nach den ersten Sonnenstrahlen\, den ersten zarten Knospen\, die sich an den Sträuchern zeigen und natürlich nach dem Gesang der Vögel? Zahlreiche Komponisten\, wie z.B. Antonio Vivaldi\, Johann Strauss und Wolfgang Amadeus Mozart widmeten ihre Werke dem Frühling. Genießen Sie ein buntes Konzertprogramm mit frühlingshaften Klängen unter der musikalischen Leitung von Prof. Igor Malinovsky an der ersten Violine. Spielfreudig vertreiben die Musiker die letzten Ausläufer des Winters\, während unsere bezaubernde Sopranistin Sie gut gelaunt in den Frühling begleiten wird. \n\n\n\nKosten: Mitglieder 30\,00 €/Nichtmitgl. 34\,00 €; erm. 15\,00 €/17\,00 € (einschl.aller Getränke) \n\n\n\nKosten: Gesamtprogramm (beide Tage)Mitglieder 52\,00 €/Nichtmitglieder 60\,00 €; erm. 26\,00 €/30\,00 € (einschl. aller Getränke)
URL:https://burg-zu-hagen.de/event/musiktage-2-tag-mit-dem-ensemble-des-dresdner-residenz-orchesters/
LOCATION:Burg zu Hagen\, Burgallee 1\, Hagen im Bremischen\, Niedersachsen\, 27628\, Deutschland
CATEGORIES:Konzert
ATTACH;FMTTYPE=image/jpeg:https://burg-zu-hagen.de/wp-content/uploads/2022/12/Burg-zu-Hagen_Musiktage-Dresdner-Residenz-Orchester-Tag-1_Teaser.jpg
ORGANIZER;CN="Kultur- und Heimatverein Burg zu Hagen im Bremischen e.V.":MAILTO:info@burg-zu-hagen.de
END:VEVENT
END:VCALENDAR