BEGIN:VCALENDAR
VERSION:2.0
PRODID:-//Burg zu Hagen - ECPv6.15.20//NONSGML v1.0//EN
CALSCALE:GREGORIAN
METHOD:PUBLISH
X-ORIGINAL-URL:https://burg-zu-hagen.de
X-WR-CALDESC:Veranstaltungen für Burg zu Hagen
REFRESH-INTERVAL;VALUE=DURATION:PT1H
X-Robots-Tag:noindex
X-PUBLISHED-TTL:PT1H
BEGIN:VTIMEZONE
TZID:Europe/Berlin
BEGIN:DAYLIGHT
TZOFFSETFROM:+0100
TZOFFSETTO:+0200
TZNAME:CEST
DTSTART:20220327T010000
END:DAYLIGHT
BEGIN:STANDARD
TZOFFSETFROM:+0200
TZOFFSETTO:+0100
TZNAME:CET
DTSTART:20221030T010000
END:STANDARD
BEGIN:DAYLIGHT
TZOFFSETFROM:+0100
TZOFFSETTO:+0200
TZNAME:CEST
DTSTART:20230326T010000
END:DAYLIGHT
BEGIN:STANDARD
TZOFFSETFROM:+0200
TZOFFSETTO:+0100
TZNAME:CET
DTSTART:20231029T010000
END:STANDARD
BEGIN:DAYLIGHT
TZOFFSETFROM:+0100
TZOFFSETTO:+0200
TZNAME:CEST
DTSTART:20240331T010000
END:DAYLIGHT
BEGIN:STANDARD
TZOFFSETFROM:+0200
TZOFFSETTO:+0100
TZNAME:CET
DTSTART:20241027T010000
END:STANDARD
END:VTIMEZONE
BEGIN:VEVENT
DTSTART;TZID=Europe/Berlin:20230212T000000
DTEND;TZID=Europe/Berlin:20230618T235959
DTSTAMP:20260421T122200
CREATED:20221220T210000Z
LAST-MODIFIED:20221220T213829Z
UID:3445-1676160000-1687132799@burg-zu-hagen.de
SUMMARY:Ausstellung – Alexander Dettmar: »Ich glaube an die Kraft der Farbe«
DESCRIPTION:Der Ernst Barlach Preisträger kommt nach seinen großen Ausstellungserfolgen im Herbst 2022 in Paris mit einer außerordentlich spannenden Ausstellung in die Burg zu Hagen zurück. »Ich glaube an die Kraft der Farbe« heißt Dettmars neuestes Projekt. Bilder von Schlössern\, Burgen\, Toren\, Türmen\, Häfen und Häusern sollen die Besucher der Burg zum Träumen bringen. Alexander Dettmar wird von der Fachwelt zu den bedeutendsten lebenden Pleinair-/Draußenmalern gezählt. Für die Ausstellung in Hagen verspricht er\, einen ganz besonderen Schatz zu heben: Er wird bisher noch nie gezeigte Gemälde präsentieren\, die er in den 1980er Jahren in Hagen und Umgebung geschaffen hat. Unter anderem auch ein Bild der Hagener Mühle. Und natürlich kommt auch »Sein Rot\, das manchmal glänzt wie ein Edelstein« (Sächsische Zeitung\, Feuilleton\, Birgit Grimm) nicht zu kurz. »Der Backstein schwimmt mir im Blut«\, so formuliert Alexander Dettmar die Liebe zur Farbe Rot. Dieses kraftvolle\, ungewöhnliche Ausstellungsprojekt sollte sich niemand entgehen lassen. \n\n\n\nKosten: Burgeintritt 3\,00 €
URL:https://burg-zu-hagen.de/event/ausstellung-alexander-dettmar-ich-glaube-an-die-kraft-der-farbe/
LOCATION:Burg zu Hagen\, Burgallee 1\, Hagen im Bremischen\, Niedersachsen\, 27628\, Deutschland
CATEGORIES:Ausstellung
ATTACH;FMTTYPE=image/jpeg:https://burg-zu-hagen.de/wp-content/uploads/2022/12/Burg-zu-Hagen_Ausstellung-Alexander-Dettmar_Teaser.jpg
ORGANIZER;CN="Kultur- und Heimatverein Burg zu Hagen im Bremischen e.V.":MAILTO:info@burg-zu-hagen.de
END:VEVENT
BEGIN:VEVENT
DTSTART;TZID=Europe/Berlin:20230521T150000
DTEND;TZID=Europe/Berlin:20230521T150000
DTSTAMP:20260421T122200
CREATED:20230509T080719Z
LAST-MODIFIED:20230509T081342Z
UID:3740-1684681200-1684681200@burg-zu-hagen.de
SUMMARY:LESUNG »Alexander Dettmar trifft Vincent van Gogh«
DESCRIPTION:unter dem Titel »Alexander Dettmar trifft Vincent van Gogh« wird der Künstler am 21. Mai 2023\, um 15:00 Uhr im Hagener Burgsaal eine Lesung geben.  \n\n\n\nDer Ernst Barlach Preisträger sagt von sich selbst: »Van Gogh hat mich angezündet.« \n\n\n\nAus den wunderbaren Briefen des Niederländers an seinen Bruder oder Künstlerfreunde wie Paul Gauguin wird Alexander Dettmar innerhalb seiner Ausstellung »ICH GLAUBE AN DIE KRAFT DER FARBE« in der Burg zu Hagen im Bremischen lesen/zitieren und es mit eigenen Erlebnissen verbinden.  \n\n\n\n»So etwas habe ich noch nie gemacht\, das wird eine Welturaufführung« (Alexander Dettmar) \n\n\n\n\n\n\n\n\n\n\n\nDettmar\, der wie van Gogh viele seiner Bilder unter freiem Himmel gemalt hat\, möchte mit dem Publikum und dem bekanntesten Draußenmaler gemeinsam gedanklich ins Gespräch kommen. Da Maler zwar Künstler aber auch Handwerker und Pragmatiker sind\, werden die Besucher viele ungewöhnliche\, sehr praktische Erkenntnisse an diesem Nachmittag mit nach Hause nehmen. \n\n\n\nEs sollte ein Tag werden\, der alle Sinne berührt. \n\n\n\nKosten: 3\,00 € (Burgeintritt)
URL:https://burg-zu-hagen.de/event/lesung-alexander-dettmar-trifft-vincent-van-gogh/
CATEGORIES:Lesung
ATTACH;FMTTYPE=image/jpeg:https://burg-zu-hagen.de/wp-content/uploads/2023/05/Burg-zu-Hagen_Lesung-Alexander-Dettmar.jpg
END:VEVENT
BEGIN:VEVENT
DTSTART;TZID=Europe/Berlin:20230527T190000
DTEND;TZID=Europe/Berlin:20230527T190000
DTSTAMP:20260421T122200
CREATED:20221220T210000Z
LAST-MODIFIED:20230529T174150Z
UID:3441-1685214000-1685214000@burg-zu-hagen.de
SUMMARY:»Anekdoten nach Noten«\, ein Live- Konzert mit den »Rock Tales«
DESCRIPTION:Foto: studio-b8.de\n\n\n\nLive-Musik im großartigen Rock- und Pop-Feeling. Und noch viel mehr: Ein unterhaltsamer Mix aus spannenden\, amüsanten Storys\, den  Jahrhundert-Welt-Hits und Multimedia! – Von und mit zwei bestens gelaunten Musikern und Insidern aus der Musikbranche – auf zig Instrumenten. Die schönsten Geschichten schreibt der Rock‘n‘Roll; Jürgen Rau kennt davon so einige. Er war einige Jahrzehnte in verantwortlichen Positionen bei großen Schallplatten-Konzernen tätig\, begegnete dabei etlichen weltberühmten Musik-Legenden\, arbeitete mit Mega-Stars und hoffnungsvollen Newcomern. Kein Wunder\, dass er dabei eine ganze Menge Erzählenswertes erlebt hat. Mit augenzwinkerndem Humor stromern die zwei durch die Musik-Geschichte. Und klingen zusammen fast wie eine ganze Band! Fans und Musikinteressierte\, die einmal hinter die Kulissen des Rock- und Pop-Business blicken möchten\, »Hits am laufenden Band« erleben wollen und echte\, noch handgemachte Live-Musik mit konzertantem Charakter lieben\, ist ein Besuch uneingeschränkt und wärmstens zu empfehlen! \n\n\n\nKosten: Mitglieder 19\,00 €/Nichtmitgl. 22\,00 €; erm. 9\,50 €/11\,00 €
URL:https://burg-zu-hagen.de/event/anekdoten-nach-noten-ein-live-konzert-mit-den-rock-tales/
LOCATION:Burg zu Hagen\, Burgallee 1\, Hagen im Bremischen\, Niedersachsen\, 27628\, Deutschland
CATEGORIES:Konzert
ATTACH;FMTTYPE=image/jpeg:https://burg-zu-hagen.de/wp-content/uploads/2022/12/Burg-zu-Hagen_Rock-Tales_Teaser.jpg
ORGANIZER;CN="Kultur- und Heimatverein Burg zu Hagen im Bremischen e.V.":MAILTO:info@burg-zu-hagen.de
END:VEVENT
END:VCALENDAR