BEGIN:VCALENDAR
VERSION:2.0
PRODID:-//Burg zu Hagen - ECPv6.15.20//NONSGML v1.0//EN
CALSCALE:GREGORIAN
METHOD:PUBLISH
X-ORIGINAL-URL:https://burg-zu-hagen.de
X-WR-CALDESC:Veranstaltungen für Burg zu Hagen
REFRESH-INTERVAL;VALUE=DURATION:PT1H
X-Robots-Tag:noindex
X-PUBLISHED-TTL:PT1H
BEGIN:VTIMEZONE
TZID:Europe/Berlin
BEGIN:DAYLIGHT
TZOFFSETFROM:+0100
TZOFFSETTO:+0200
TZNAME:CEST
DTSTART:20220327T010000
END:DAYLIGHT
BEGIN:STANDARD
TZOFFSETFROM:+0200
TZOFFSETTO:+0100
TZNAME:CET
DTSTART:20221030T010000
END:STANDARD
BEGIN:DAYLIGHT
TZOFFSETFROM:+0100
TZOFFSETTO:+0200
TZNAME:CEST
DTSTART:20230326T010000
END:DAYLIGHT
BEGIN:STANDARD
TZOFFSETFROM:+0200
TZOFFSETTO:+0100
TZNAME:CET
DTSTART:20231029T010000
END:STANDARD
BEGIN:DAYLIGHT
TZOFFSETFROM:+0100
TZOFFSETTO:+0200
TZNAME:CEST
DTSTART:20240331T010000
END:DAYLIGHT
BEGIN:STANDARD
TZOFFSETFROM:+0200
TZOFFSETTO:+0100
TZNAME:CET
DTSTART:20241027T010000
END:STANDARD
END:VTIMEZONE
BEGIN:VEVENT
DTSTART;TZID=Europe/Berlin:20230212T000000
DTEND;TZID=Europe/Berlin:20230618T235959
DTSTAMP:20260421T105024
CREATED:20221220T210000Z
LAST-MODIFIED:20221220T213829Z
UID:3445-1676160000-1687132799@burg-zu-hagen.de
SUMMARY:Ausstellung – Alexander Dettmar: »Ich glaube an die Kraft der Farbe«
DESCRIPTION:Der Ernst Barlach Preisträger kommt nach seinen großen Ausstellungserfolgen im Herbst 2022 in Paris mit einer außerordentlich spannenden Ausstellung in die Burg zu Hagen zurück. »Ich glaube an die Kraft der Farbe« heißt Dettmars neuestes Projekt. Bilder von Schlössern\, Burgen\, Toren\, Türmen\, Häfen und Häusern sollen die Besucher der Burg zum Träumen bringen. Alexander Dettmar wird von der Fachwelt zu den bedeutendsten lebenden Pleinair-/Draußenmalern gezählt. Für die Ausstellung in Hagen verspricht er\, einen ganz besonderen Schatz zu heben: Er wird bisher noch nie gezeigte Gemälde präsentieren\, die er in den 1980er Jahren in Hagen und Umgebung geschaffen hat. Unter anderem auch ein Bild der Hagener Mühle. Und natürlich kommt auch »Sein Rot\, das manchmal glänzt wie ein Edelstein« (Sächsische Zeitung\, Feuilleton\, Birgit Grimm) nicht zu kurz. »Der Backstein schwimmt mir im Blut«\, so formuliert Alexander Dettmar die Liebe zur Farbe Rot. Dieses kraftvolle\, ungewöhnliche Ausstellungsprojekt sollte sich niemand entgehen lassen. \n\n\n\nKosten: Burgeintritt 3\,00 €
URL:https://burg-zu-hagen.de/event/ausstellung-alexander-dettmar-ich-glaube-an-die-kraft-der-farbe/
LOCATION:Burg zu Hagen\, Burgallee 1\, Hagen im Bremischen\, Niedersachsen\, 27628\, Deutschland
CATEGORIES:Ausstellung
ATTACH;FMTTYPE=image/jpeg:https://burg-zu-hagen.de/wp-content/uploads/2022/12/Burg-zu-Hagen_Ausstellung-Alexander-Dettmar_Teaser.jpg
ORGANIZER;CN="Kultur- und Heimatverein Burg zu Hagen im Bremischen e.V.":MAILTO:info@burg-zu-hagen.de
END:VEVENT
BEGIN:VEVENT
DTSTART;TZID=Europe/Berlin:20230617T170000
DTEND;TZID=Europe/Berlin:20230617T170000
DTSTAMP:20260421T105024
CREATED:20221220T210000Z
LAST-MODIFIED:20230905T114652Z
UID:3443-1687021200-1687021200@burg-zu-hagen.de
SUMMARY:Weinfest auf dem Burghof
DESCRIPTION:Foto: AdobeStock\n\n\n\n\n\n\nDer Rotary Club Hagen im Bremischen veranstaltet in Kooperation mit dem Kultur- und Heimatverein Burg zu Hagen im Bremischen e.V. sein erstes Weinfest von 17:00 bis 23:00 Uhr auf dem Burghof. Als aktiver Rotary Club für die Gemeinden Beverstedt\, Hagen und Loxstedt ist es dem Club ein Anliegen\, soziale Projekte sowie Vereine und Organisationen zu unterstützen. Erleben Sie ein Weinfest mit Charity-Charakter. Genießen Sie erlesene Weine sowie Prickelndes von der Rebe. Allen Nichtweintrinkern bieten wir andere alkoholische und alkoholfreie Getränke an. Genießen Sie schöne Stunden bei Live-Musik\, Weinen und diversen Speisen. Die Einnahmen des Abends kommen sozialen Projekten in der Region zugute.  \n\n\n\nKosten: Eintritt 5\,00 €
URL:https://burg-zu-hagen.de/event/weinfest-auf-dem-burghof/
LOCATION:Burg zu Hagen\, Burgallee 1\, Hagen im Bremischen\, Niedersachsen\, 27628\, Deutschland
CATEGORIES:Aussenveranstaltung
ATTACH;FMTTYPE=image/jpeg:https://burg-zu-hagen.de/wp-content/uploads/2022/12/Burg-zu-Hagen_Weinfest-auf-dem-Burghof_Teaser.jpg
ORGANIZER;CN="Kultur- und Heimatverein Burg zu Hagen im Bremischen e.V.":MAILTO:info@burg-zu-hagen.de
END:VEVENT
BEGIN:VEVENT
DTSTART;TZID=Europe/Berlin:20230619T000000
DTEND;TZID=Europe/Berlin:20230701T235959
DTSTAMP:20260421T105024
CREATED:20230627T164802Z
LAST-MODIFIED:20230627T170802Z
UID:3777-1687132800-1688255999@burg-zu-hagen.de
SUMMARY:Ausstellungswechsel für »immer wieder Neues«
DESCRIPTION:Ausstellungswechsel – © AdobeStock\n\n\n\n\n\n\n\n\n\n\n\nWegen eines Ausstellungswechsels bleibt die Burg zu Hagen in der Zeit vom 19. Juni bis 1. Juli 2023 geschlossen. Informationen und Tickets sind jedoch weiterhin zu den üblichen Öffnungszeiten erhältlich.  \n\n\n\nWir freuen uns ab dem 2. Juli wieder viele Besucher zur Ausstellung  »immer wieder Neues« in der Burg begrüßen zu dürfen!
URL:https://burg-zu-hagen.de/event/ausstellungswechsel-fuer-alexander-dettmar-2/
CATEGORIES:Ausstellung
ATTACH;FMTTYPE=image/jpeg:https://burg-zu-hagen.de/wp-content/uploads/2023/06/Burg-zu-Hagen_Ausstellungswechsel_c_AdobeStock.jpg
END:VEVENT
END:VCALENDAR