BEGIN:VCALENDAR
VERSION:2.0
PRODID:-//Burg zu Hagen - ECPv6.15.20//NONSGML v1.0//EN
CALSCALE:GREGORIAN
METHOD:PUBLISH
X-WR-CALNAME:Burg zu Hagen
X-ORIGINAL-URL:https://burg-zu-hagen.de
X-WR-CALDESC:Veranstaltungen für Burg zu Hagen
REFRESH-INTERVAL;VALUE=DURATION:PT1H
X-Robots-Tag:noindex
X-PUBLISHED-TTL:PT1H
BEGIN:VTIMEZONE
TZID:Europe/Berlin
BEGIN:DAYLIGHT
TZOFFSETFROM:+0100
TZOFFSETTO:+0200
TZNAME:CEST
DTSTART:20220327T010000
END:DAYLIGHT
BEGIN:STANDARD
TZOFFSETFROM:+0200
TZOFFSETTO:+0100
TZNAME:CET
DTSTART:20221030T010000
END:STANDARD
BEGIN:DAYLIGHT
TZOFFSETFROM:+0100
TZOFFSETTO:+0200
TZNAME:CEST
DTSTART:20230326T010000
END:DAYLIGHT
BEGIN:STANDARD
TZOFFSETFROM:+0200
TZOFFSETTO:+0100
TZNAME:CET
DTSTART:20231029T010000
END:STANDARD
BEGIN:DAYLIGHT
TZOFFSETFROM:+0100
TZOFFSETTO:+0200
TZNAME:CEST
DTSTART:20240331T010000
END:DAYLIGHT
BEGIN:STANDARD
TZOFFSETFROM:+0200
TZOFFSETTO:+0100
TZNAME:CET
DTSTART:20241027T010000
END:STANDARD
END:VTIMEZONE
BEGIN:VEVENT
DTSTART;TZID=Europe/Berlin:20230619T000000
DTEND;TZID=Europe/Berlin:20230701T235959
DTSTAMP:20260419T185728
CREATED:20230627T164802Z
LAST-MODIFIED:20230627T170802Z
UID:3777-1687132800-1688255999@burg-zu-hagen.de
SUMMARY:Ausstellungswechsel für »immer wieder Neues«
DESCRIPTION:Ausstellungswechsel – © AdobeStock\n\n\n\n\n\n\n\n\n\n\n\nWegen eines Ausstellungswechsels bleibt die Burg zu Hagen in der Zeit vom 19. Juni bis 1. Juli 2023 geschlossen. Informationen und Tickets sind jedoch weiterhin zu den üblichen Öffnungszeiten erhältlich.  \n\n\n\nWir freuen uns ab dem 2. Juli wieder viele Besucher zur Ausstellung  »immer wieder Neues« in der Burg begrüßen zu dürfen!
URL:https://burg-zu-hagen.de/event/ausstellungswechsel-fuer-alexander-dettmar-2/
CATEGORIES:Ausstellung
ATTACH;FMTTYPE=image/jpeg:https://burg-zu-hagen.de/wp-content/uploads/2023/06/Burg-zu-Hagen_Ausstellungswechsel_c_AdobeStock.jpg
END:VEVENT
BEGIN:VEVENT
DTSTART;TZID=Europe/Berlin:20230702T000000
DTEND;TZID=Europe/Berlin:20231105T235959
DTSTAMP:20260419T185728
CREATED:20230627T170134Z
LAST-MODIFIED:20230926T102017Z
UID:3810-1688256000-1699228799@burg-zu-hagen.de
SUMMARY:AUSSTELLUNG: »immer wieder Neues«
DESCRIPTION:Fünf Künstlerinnen und ein Künstler des BBK Stade-Cuxhaven (Bund Bildender Künstlerinnen und Künstler) haben sich zusammengefunden\, um ihre Kunst mit dem Titel »immer wieder Neues« in der Burg zu präsentieren. Dabei geht es um sehr unterschiedliche Sujets des Kunstbereichs. Barbara Uebel hat sich altem Holz\, der Mooreiche\, verschrieben und daraus ausdrucksstarke Skulpturen geschaffen\, während Birgit Lindemann für ihre lebensechten Figuren Ton verarbeitet\, um ihnen\, unterstützt durch Farbe\, Gestalt und Ausdruck zu verleihen. Heide Duwe\, Ulrike Brockmann\, Dirk Behrens und Ingeborg Dammann-Arndt zeigen groß- und kleinformatige Arbeiten aus sehr unterschiedlichen Bereichen der Malerei – vom Aquarell\, über Öl auf Leinwand\, Mischtechnik bis hin zur Graphit- und Farbzeichnung – und verzaubern damit die Räumlichkeiten der Burg. \n\n\n\nVernissage: Sonntag\, 2. Juli 2023\, 15:00 UhrMusikalisches Rahmenprogramm: Oliver PoppeEröffnungsrede: Anne Beel\, Kunst- und Kulturwissenschaftlerin\, BremenFührungen: Termine für Führungen finden Sie zeitnah auf unserer Webseite \n\n\n\nKosten: 3\,00 € (Burgeintritt) \n\n\n\n\n\n\n\nImpressionen aus der aktuellen Ausstellung\n\n\n\n\n\n\n		\n				\n						\n			\n								\n			\n		\n							\n			\n				\n						\n			\n								\n			\n		\n							\n			\n				\n						\n			\n								\n			\n		\n							\n			\n				\n						\n			\n								\n			\n		\n							\n			\n				\n						\n			\n								\n			\n		\n							\n			\n				\n						\n			\n								\n			\n		\n							\n			\n				\n						\n			\n								\n			\n		\n							\n			\n				\n						\n			\n								\n			\n		\n							\n			\n				\n						\n			\n								\n			\n		\n							\n			\n				\n						\n			\n								\n			\n		\n							\n			\n				\n						\n			\n								\n			\n		\n							\n			\n	\n	\n\n		\n		[Zeige eine Slideshow]
URL:https://burg-zu-hagen.de/event/ausstellung-immer-wieder-neues/
CATEGORIES:Ausstellung
ATTACH;FMTTYPE=image/jpeg:https://burg-zu-hagen.de/wp-content/uploads/2023/06/Burg-zu-Hagen_Ausstellung-immer-wieder-Neues.jpg
END:VEVENT
BEGIN:VEVENT
DTSTART;TZID=Europe/Berlin:20230722T190000
DTEND;TZID=Europe/Berlin:20230722T190000
DTSTAMP:20260419T185728
CREATED:20230627T170455Z
LAST-MODIFIED:20230905T114731Z
UID:3792-1690052400-1690052400@burg-zu-hagen.de
SUMMARY:SOMMERABEND auf dem Burghof mit der Band MustBBlues
DESCRIPTION:MustBBlues – © Diana Nukic\n\n\n\n\n\n\n\nMit MustBBlues spielt eine Band erfahrener Blues-Musiker. Man merkt bei der im Frühjahr 2016 gegründeten Band\, zu der neben Sänger Jürgen Hartung auch Charly Blendermann (Drums)\, Manni Borchert (Bass)\, Helmut Stehr (Gitarre\,Vocal) sowie Uwe Rademacher (Harp) und Jürgen M. Gorges (Keyboard/Piano) gehören\, dass sie mit leidenschaftlicher Spielfreude dabei sind. Geprägt von Harp und Keyboard bekommen die Interpretationen ihren besonderen Charakter. Es zeigt sich bei den Stücken von B.B. King über Jimmy Reed\, John Lee Hooker\, Otis Spann\, Muddy Waters\, Wilson Picket bis J.J. Cale: Hier haben sich sechs Blueser gesucht und – gefunden! \n\n\n\nErfreuen Sie sich an einem Sommerabend bei Picknick & Wein. Genießer dürfen sich aber auch mit leckeren Angeboten verwöhnen lassen. Ab 17:00 Uhr kann man diesen Abend im Burggarten beginnen. Das Konzert findet bei Regen unter Zelten statt. \n\n\n\nKosten: Mitglieder 19\,00 €; Nichtmitglieder 22\,00 €; erm: 9\,50 / 11\,00 € 
URL:https://burg-zu-hagen.de/event/sommerabend-auf-dem-burghof-mit-der-band-mustbblues/
CATEGORIES:Aussenveranstaltung,Konzert
ATTACH;FMTTYPE=image/jpeg:https://burg-zu-hagen.de/wp-content/uploads/2023/06/Burg-zu-Hagen_MustBBlues_c_Dijana-Nukic.jpg
END:VEVENT
END:VCALENDAR